BEGIN:VCALENDAR
VERSION:2.0
BEGIN:VEVENT
DTSTART;TZID=Europe/Stockholm:20260529T000000
DTEND;TZID=Europe/Stockholm:20260529T240000
DTSTAMP:20260424T094605
DESCRIPTION:Kulturkalas i Gislaved. Centrumkyrkan plats för sång och musik i form av musikcafé.
SEQUENCE:0
SUMMARY:Gisledagarna 2026 – 29–30/5.
UID:3773@lawebb.se
END:VEVENT
END:VCALENDAR