BEGIN:VCALENDAR
VERSION:2.0
BEGIN:VEVENT
DTSTART;TZID=Europe/Stockholm:20260529T190000
DTEND;TZID=Europe/Stockholm:20260529T200000
DTSTAMP:20260424T094420
DESCRIPTION:
SEQUENCE:0
SUMMARY:Tonår.
UID:9793@lawebb.se
END:VEVENT
END:VCALENDAR