BEGIN:VCALENDAR
VERSION:2.0
BEGIN:VEVENT
DTSTART;TZID=Europe/Stockholm:20260527T141500
DTEND;TZID=Europe/Stockholm:20260527T151500
DTSTAMP:20260424T094422
DESCRIPTION:
SEQUENCE:0
SUMMARY:Andakt på Blomstervägen.
UID:8343@lawebb.se
END:VEVENT
END:VCALENDAR