BEGIN:VCALENDAR
VERSION:2.0
BEGIN:VEVENT
DTSTART;TZID=Europe/Stockholm:20260524T100000
DTEND;TZID=Europe/Stockholm:20260524T110000
DTSTAMP:20260424T094745
DESCRIPTION:Tomas Themar: &#34;Anden behövs för att möta nöden med nåden&#34;. Söndagskul. Servering.
SEQUENCE:0
SUMMARY:Gudstjänst på pingstdagen.
UID:5427@lawebb.se
END:VEVENT
END:VCALENDAR