BEGIN:VCALENDAR
VERSION:2.0
BEGIN:VEVENT
DTSTART;TZID=Europe/Stockholm:20260521T180000
DTEND;TZID=Europe/Stockholm:20260521T190000
DTSTAMP:20260424T094453
DESCRIPTION:
SEQUENCE:0
SUMMARY:Scout på Holmen.
UID:7268@lawebb.se
END:VEVENT
END:VCALENDAR