BEGIN:VCALENDAR
VERSION:2.0
BEGIN:VEVENT
DTSTART;TZID=Europe/Stockholm:20260520T153000
DTEND;TZID=Europe/Stockholm:20260520T163000
DTSTAMP:20260424T094849
DESCRIPTION:Vi möts kl. 15.30–17.00 till läxhjälp, gemenskap, fika m.m. Samling tillsammans med Svenska kyrkan.
SEQUENCE:0
SUMMARY:Språkcafé.
UID:6366@lawebb.se
END:VEVENT
END:VCALENDAR