BEGIN:VCALENDAR
VERSION:2.0
BEGIN:VEVENT
DTSTART;TZID=Europe/Stockholm:20260519T183000
DTEND;TZID=Europe/Stockholm:20260519T193000
DTSTAMP:20260424T094709
DESCRIPTION:
SEQUENCE:0
SUMMARY:Ekumenisk bön i Centrumkyrkan.
UID:8992@lawebb.se
END:VEVENT
END:VCALENDAR