BEGIN:VCALENDAR
VERSION:2.0
BEGIN:VEVENT
DTSTART;TZID=Europe/Stockholm:20260517T100000
DTEND;TZID=Europe/Stockholm:20260517T110000
DTSTAMP:20260424T094754
DESCRIPTION:Kjell Larsson, Ulrika Axelsson, Emmy Hellström, Martina Curenstam, konfirmandlärarna och konfirmanderna. Servering.
SEQUENCE:0
SUMMARY:Konfirmationsgudstjänst.
UID:5465@lawebb.se
END:VEVENT
END:VCALENDAR