BEGIN:VCALENDAR
VERSION:2.0
BEGIN:VEVENT
DTSTART;TZID=Europe/Stockholm:20260514T000000
DTEND;TZID=Europe/Stockholm:20260514T240000
DTSTAMP:20260424T094526
DESCRIPTION:Följ via församlingens hemsida eller ett särskilt häfte den världsvida bönesatsningen &#34;Låt ditt rike komma&#34; under perioden Kristi himmelsfärd–pingst. Vi ber om väckelse!
SEQUENCE:0
SUMMARY:&#34;Låt ditt rike komma&#34;-bön 14–24/5.
UID:8264@lawebb.se
END:VEVENT
END:VCALENDAR