BEGIN:VCALENDAR
VERSION:2.0
BEGIN:VEVENT
DTSTART;TZID=Europe/Stockholm:20260512T190000
DTEND;TZID=Europe/Stockholm:20260512T200000
DTSTAMP:20260424T094453
DESCRIPTION:Kjell Larsson: ”Vår Fader – Livsbönen”. Dagens ämne: &#34;Din är makten och äran – bevara mig Gud!&#34;.
SEQUENCE:0
SUMMARY:Bibelstudium.
UID:8595@lawebb.se
END:VEVENT
END:VCALENDAR