BEGIN:VCALENDAR
VERSION:2.0
BEGIN:VEVENT
DTSTART;TZID=Europe/Stockholm:20260512T183000
DTEND;TZID=Europe/Stockholm:20260512T193000
DTSTAMP:20260424T094720
DESCRIPTION:
SEQUENCE:0
SUMMARY:Ekumenisk bön i Centrumkyrkan.
UID:9457@lawebb.se
END:VEVENT
END:VCALENDAR