BEGIN:VCALENDAR
VERSION:2.0
BEGIN:VEVENT
DTSTART;TZID=Europe/Stockholm:20260510T113000
DTEND;TZID=Europe/Stockholm:20260510T123000
DTSTAMP:20260424T094555
DESCRIPTION:Ärende: Beslut om erbjudande om anställning som pastor och föreståndare.
SEQUENCE:0
SUMMARY:Församlingsmöte.
UID:7629@lawebb.se
END:VEVENT
END:VCALENDAR