BEGIN:VCALENDAR
VERSION:2.0
BEGIN:VEVENT
DTSTART;TZID=Europe/Stockholm:20260510T100000
DTEND;TZID=Europe/Stockholm:20260510T110000
DTSTAMP:20260424T094816
DESCRIPTION:Bengt Svensson. Premiär för kören Soul Children. Söndagskul. Nattvard. Servering.
SEQUENCE:0
SUMMARY:Gudstjänst.
UID:6894@lawebb.se
END:VEVENT
END:VCALENDAR