BEGIN:VCALENDAR
VERSION:2.0
BEGIN:VEVENT
DTSTART;TZID=Europe/Stockholm:20260508T164500
DTEND;TZID=Europe/Stockholm:20260508T174500
DTSTAMP:20260424T094506
DESCRIPTION:
SEQUENCE:0
SUMMARY:Konfirmationsundervisning.
UID:4624@lawebb.se
END:VEVENT
END:VCALENDAR