BEGIN:VCALENDAR
VERSION:2.0
BEGIN:VEVENT
DTSTART;TZID=Europe/Stockholm:20260503T123000
DTEND;TZID=Europe/Stockholm:20260503T133000
DTSTAMP:20260424T094556
DESCRIPTION:&#34;Nöd och nåd går hand i hand&#34;.
SEQUENCE:0
SUMMARY:Pass 2 med Maria Ahlriksson:
UID:8572@lawebb.se
END:VEVENT
END:VCALENDAR