BEGIN:VCALENDAR
VERSION:2.0
BEGIN:VEVENT
DTSTART;TZID=Europe/Stockholm:20260503T100000
DTEND;TZID=Europe/Stockholm:20260503T110000
DTSTAMP:20260424T094835
DESCRIPTION:Maria Ahlriksson: &#34;Nöd och nåd går hand i hand&#34;. Söndagskul. Korvgrillning med scouterna.
SEQUENCE:0
SUMMARY:Temagudstjänst.
UID:2729@lawebb.se
END:VEVENT
END:VCALENDAR