BEGIN:VCALENDAR
VERSION:2.0
BEGIN:VEVENT
DTSTART;TZID=Europe/Stockholm:20260429T141500
DTEND;TZID=Europe/Stockholm:20260429T151500
DTSTAMP:20260424T093432
DESCRIPTION:
SEQUENCE:0
SUMMARY:Andakt på Blomstervägen.
UID:3672@lawebb.se
END:VEVENT
END:VCALENDAR