BEGIN:VCALENDAR
VERSION:2.0
BEGIN:VEVENT
DTSTART;TZID=Europe/Stockholm:20260428T143000
DTEND;TZID=Europe/Stockholm:20260428T153000
DTSTAMP:20260424T093127
DESCRIPTION:Besök i Sinnenas trädgård, Länghem, Glasets hus i Limmared och Mossebo kyrka. Pris för resan: 300 kr (inkluderande resa, lunch och förmiddagskaffe). Anmälan tidigast den 3/3 på dagledigträffen i församlingshemmet. Därefter anmälan på tel. 072 – 523 17 70.
SEQUENCE:0
SUMMARY:Dagledigas &#34;Vår resa&#34;.
UID:6467@lawebb.se
END:VEVENT
END:VCALENDAR