BEGIN:VCALENDAR
VERSION:2.0
BEGIN:VEVENT
DTSTART;TZID=Europe/Stockholm:20260428T183000
DTEND;TZID=Europe/Stockholm:20260428T193000
DTSTAMP:20260424T093126
DESCRIPTION:
SEQUENCE:0
SUMMARY:Ekumenisk bön i Centrumkyrkan.
UID:4567@lawebb.se
END:VEVENT
END:VCALENDAR