BEGIN:VCALENDAR
VERSION:2.0
BEGIN:VEVENT
DTSTART;TZID=Europe/Stockholm:20260424T000000
DTEND;TZID=Europe/Stockholm:20260424T240000
DTSTAMP:20260424T091757
DESCRIPTION:Plats: Gullbrannagården. Be för lägret!
SEQUENCE:0
SUMMARY:Konfirmationshajk den 24–26/4.
UID:7592@lawebb.se
END:VEVENT
END:VCALENDAR