BEGIN:VCALENDAR
VERSION:2.0
BEGIN:VEVENT
DTSTART;TZID=Europe/Stockholm:20260419T100000
DTEND;TZID=Europe/Stockholm:20260419T110000
DTSTAMP:20260424T093250
DESCRIPTION:Kjell Larsson: &#34;Förvaltare av Guds nåd – lev ut nåden&#34; (1 Petrus 4:10). Söndagskul. Servering.
SEQUENCE:0
SUMMARY:Gudstjänst.
UID:6596@lawebb.se
END:VEVENT
END:VCALENDAR