BEGIN:VCALENDAR
VERSION:2.0
BEGIN:VEVENT
DTSTART;TZID=Europe/Stockholm:20260417T164500
DTEND;TZID=Europe/Stockholm:20260417T174500
DTSTAMP:20260424T092935
DESCRIPTION:
SEQUENCE:0
SUMMARY:Konfirmationsundervisning
UID:9257@lawebb.se
END:VEVENT
END:VCALENDAR