BEGIN:VCALENDAR
VERSION:2.0
BEGIN:VEVENT
DTSTART;TZID=Europe/Stockholm:20260417T110000
DTEND;TZID=Europe/Stockholm:20260417T120000
DTSTAMP:20260424T092940
DESCRIPTION:
SEQUENCE:0
SUMMARY:Begravningsgudstjänst (Margareta Åsljung).
UID:5424@lawebb.se
END:VEVENT
END:VCALENDAR