BEGIN:VCALENDAR
VERSION:2.0
BEGIN:VEVENT
DTSTART;TZID=Europe/Stockholm:20260414T190000
DTEND;TZID=Europe/Stockholm:20260414T200000
DTSTAMP:20260424T093034
DESCRIPTION:Kjell Larsson: ”Vår Fader – Livsbönen”. Dagens ämne: &#34;Gud känner och möter våra behov&#34;.
SEQUENCE:0
SUMMARY:Bibelstudium.
UID:8448@lawebb.se
END:VEVENT
END:VCALENDAR