BEGIN:VCALENDAR
VERSION:2.0
BEGIN:VEVENT
DTSTART;TZID=Europe/Stockholm:20260414T143000
DTEND;TZID=Europe/Stockholm:20260414T153000
DTSTAMP:20260424T093200
DESCRIPTION:&#34;Med pärlor i bagaget&#34;. Marianne Enell, Tranås, bjuder på en musikalisk resa. Servering.
SEQUENCE:0
SUMMARY:Dagledigträff i Centrumkyrkan.
UID:2463@lawebb.se
END:VEVENT
END:VCALENDAR