BEGIN:VCALENDAR
VERSION:2.0
BEGIN:VEVENT
DTSTART;TZID=Europe/Stockholm:20260414T183000
DTEND;TZID=Europe/Stockholm:20260414T193000
DTSTAMP:20260424T093149
DESCRIPTION:
SEQUENCE:0
SUMMARY:Ekumenisk bön i Centrumkyrkan.
UID:4454@lawebb.se
END:VEVENT
END:VCALENDAR