BEGIN:VCALENDAR
VERSION:2.0
BEGIN:VEVENT
DTSTART;TZID=Europe/Stockholm:20260412T100000
DTEND;TZID=Europe/Stockholm:20260412T110000
DTSTAMP:20260424T093329
DESCRIPTION:Martina Curenstam. Söndagskul. Nattvard. Servering.
SEQUENCE:0
SUMMARY:Gudstjänst.
UID:3432@lawebb.se
END:VEVENT
END:VCALENDAR