BEGIN:VCALENDAR
VERSION:2.0
BEGIN:VEVENT
DTSTART;TZID=Europe/Stockholm:20260409T180000
DTEND;TZID=Europe/Stockholm:20260409T190000
DTSTAMP:20260424T093108
DESCRIPTION:
SEQUENCE:0
SUMMARY:Scout.
UID:4842@lawebb.se
END:VEVENT
END:VCALENDAR