BEGIN:VCALENDAR
VERSION:2.0
BEGIN:VEVENT
DTSTART;TZID=Europe/Stockholm:20260405T100000
DTEND;TZID=Europe/Stockholm:20260405T110000
DTSTAMP:20260424T093220
DESCRIPTION:Kjell Larsson och Martina Curenstam. Sång av Lovisa Wendefors, Stefan Curenstam m.fl. Servering.
SEQUENCE:0
SUMMARY:Gudstjänst på påskdagen.
UID:2727@lawebb.se
END:VEVENT
END:VCALENDAR