BEGIN:VCALENDAR
VERSION:2.0
BEGIN:VEVENT
DTSTART;TZID=Europe/Stockholm:20260403T100000
DTEND;TZID=Europe/Stockholm:20260403T110000
DTSTAMP:20260424T093208
DESCRIPTION:Kjell Larsson och Ulrika Axelsson.
SEQUENCE:0
SUMMARY:Långfredagsgudstjänst.
UID:4829@lawebb.se
END:VEVENT
END:VCALENDAR