BEGIN:VCALENDAR
VERSION:2.0
BEGIN:VEVENT
DTSTART;TZID=Europe/Stockholm:20260402T190000
DTEND;TZID=Europe/Stockholm:20260402T200000
DTSTAMP:20260424T093148
DESCRIPTION:Kjell Larsson och Ulrika Axelsson. Nattvardsfirande.
SEQUENCE:0
SUMMARY:Getsemanestund.
UID:2982@lawebb.se
END:VEVENT
END:VCALENDAR