BEGIN:VCALENDAR
VERSION:2.0
BEGIN:VEVENT
DTSTART;TZID=Europe/Stockholm:20260401T141500
DTEND;TZID=Europe/Stockholm:20260401T151500
DTSTAMP:20260424T093200
DESCRIPTION:
SEQUENCE:0
SUMMARY:Andakt på Blomstervägen.
UID:7737@lawebb.se
END:VEVENT
END:VCALENDAR