BEGIN:VCALENDAR
VERSION:2.0
BEGIN:VEVENT
DTSTART;TZID=Europe/Stockholm:20260329T100000
DTEND;TZID=Europe/Stockholm:20260329T110000
DTSTAMP:20260424T095552
DESCRIPTION:Bengt Svensson. Söndagskul. Servering.
SEQUENCE:0
SUMMARY:Gudstjänst.
UID:9428@lawebb.se
END:VEVENT
END:VCALENDAR