BEGIN:VCALENDAR
VERSION:2.0
BEGIN:VEVENT
DTSTART;TZID=Europe/Stockholm:20260328T190000
DTEND;TZID=Europe/Stockholm:20260328T200000
DTSTAMP:20260424T095524
DESCRIPTION:Församlingens miljögrupp leder samlingen.
SEQUENCE:0
SUMMARY:Earth Hour.
UID:9833@lawebb.se
END:VEVENT
END:VCALENDAR