BEGIN:VCALENDAR
VERSION:2.0
BEGIN:VEVENT
DTSTART;TZID=Europe/Stockholm:20260320T164500
DTEND;TZID=Europe/Stockholm:20260320T174500
DTSTAMP:20260424T095806
DESCRIPTION:
SEQUENCE:0
SUMMARY:Konfirmationsundervisning.
UID:7854@lawebb.se
END:VEVENT
END:VCALENDAR