BEGIN:VCALENDAR
VERSION:2.0
BEGIN:VEVENT
DTSTART;TZID=Europe/Stockholm:20260319T180000
DTEND;TZID=Europe/Stockholm:20260319T190000
DTSTAMP:20260424T095345
DESCRIPTION:
SEQUENCE:0
SUMMARY:Scout.
UID:2723@lawebb.se
END:VEVENT
END:VCALENDAR