BEGIN:VCALENDAR
VERSION:2.0
BEGIN:VEVENT
DTSTART;TZID=Europe/Stockholm:20260315T100000
DTEND;TZID=Europe/Stockholm:20260315T110000
DTSTAMP:20260424T095755
DESCRIPTION:Martina Curenstam. Pop up-barnkör. Söndagskul. Servering.
SEQUENCE:0
SUMMARY:Gudstjänst.
UID:8555@lawebb.se
END:VEVENT
END:VCALENDAR