BEGIN:VCALENDAR
VERSION:2.0
BEGIN:VEVENT
DTSTART;TZID=Europe/Stockholm:20260306T164500
DTEND;TZID=Europe/Stockholm:20260306T174500
DTSTAMP:20260424T095504
DESCRIPTION:
SEQUENCE:0
SUMMARY:Konfirmationsundervisning.
UID:9263@lawebb.se
END:VEVENT
END:VCALENDAR