BEGIN:VCALENDAR
VERSION:2.0
BEGIN:VEVENT
DTSTART;TZID=Europe/Stockholm:20260228T190000
DTEND;TZID=Europe/Stockholm:20260228T200000
DTSTAMP:20260424T101358
DESCRIPTION:Lasse Mellergård och gruppen JazzÅh. Servering.
SEQUENCE:0
SUMMARY:Hörnkväll.
UID:6334@lawebb.se
END:VEVENT
END:VCALENDAR