BEGIN:VCALENDAR
VERSION:2.0
BEGIN:VEVENT
DTSTART;TZID=Europe/Stockholm:20260224T183000
DTEND;TZID=Europe/Stockholm:20260224T193000
DTSTAMP:20260424T101317
DESCRIPTION:
SEQUENCE:0
SUMMARY:Ekumenisk bön i Centrumkyrkan.
UID:7232@lawebb.se
END:VEVENT
END:VCALENDAR