BEGIN:VCALENDAR
VERSION:2.0
BEGIN:VEVENT
DTSTART;TZID=Europe/Stockholm:20260222T100000
DTEND;TZID=Europe/Stockholm:20260222T110000
DTSTAMP:20260424T101505
DESCRIPTION:Kjell Larsson: &#34;Nöden möts av nåden&#34; (Lukas 15:11–32).  Dop. Medlemsintagning. Söndagskul. Servering.
SEQUENCE:0
SUMMARY:Gudstjänst med årshögtid.
UID:5389@lawebb.se
END:VEVENT
END:VCALENDAR