BEGIN:VCALENDAR
VERSION:2.0
BEGIN:VEVENT
DTSTART;TZID=Europe/Stockholm:20260220T164500
DTEND;TZID=Europe/Stockholm:20260220T174500
DTSTAMP:20260424T101628
DESCRIPTION:
SEQUENCE:0
SUMMARY:Konfirmationsundervisning.
UID:4834@lawebb.se
END:VEVENT
END:VCALENDAR