BEGIN:VCALENDAR
VERSION:2.0
BEGIN:VEVENT
DTSTART;TZID=Europe/Stockholm:20260218T141500
DTEND;TZID=Europe/Stockholm:20260218T151500
DTSTAMP:20260424T101524
DESCRIPTION:
SEQUENCE:0
SUMMARY:Andakt på Blomstervägen.
UID:6962@lawebb.se
END:VEVENT
END:VCALENDAR