BEGIN:VCALENDAR
VERSION:2.0
BEGIN:VEVENT
DTSTART;TZID=Europe/Stockholm:20260217T143000
DTEND;TZID=Europe/Stockholm:20260217T153000
DTSTAMP:20260424T101440
DESCRIPTION:Anders Blomstrand, Värnamo: &#34;Att bli lurad – lär Dig känna igen bedragarnas knep&#34;. Servering.
SEQUENCE:0
SUMMARY:Dagledigträff i Centrumkyrkan.
UID:4947@lawebb.se
END:VEVENT
END:VCALENDAR