BEGIN:VCALENDAR
VERSION:2.0
BEGIN:VEVENT
DTSTART;TZID=Europe/Stockholm:20260217T190000
DTEND;TZID=Europe/Stockholm:20260217T200000
DTSTAMP:20260424T101616
DESCRIPTION:Kjell Larsson: ”Vår Fader – Livsbönen”.
Dagens ämne: &#34;Bön – hjärtats samtal med Gud&#34;.
SEQUENCE:0
SUMMARY:Bibelstudium.
UID:8445@lawebb.se
END:VEVENT
END:VCALENDAR