BEGIN:VCALENDAR
VERSION:2.0
BEGIN:VEVENT
DTSTART;TZID=Europe/Stockholm:20260208T100000
DTEND;TZID=Europe/Stockholm:20260208T110000
DTSTAMP:20260424T101430
DESCRIPTION:Kjell Larsson. Söndagskul. Medlemsintagning. Nattvard. Servering.
SEQUENCE:0
SUMMARY:Gudstjänst.
UID:4263@lawebb.se
END:VEVENT
END:VCALENDAR