BEGIN:VCALENDAR
VERSION:2.0
BEGIN:VEVENT
DTSTART;TZID=Europe/Stockholm:20260206T164500
DTEND;TZID=Europe/Stockholm:20260206T174500
DTSTAMP:20260424T101357
DESCRIPTION:
SEQUENCE:0
SUMMARY:Konfirmationsundervisning.
UID:8263@lawebb.se
END:VEVENT
END:VCALENDAR