BEGIN:VCALENDAR
VERSION:2.0
BEGIN:VEVENT
DTSTART;TZID=Europe/Stockholm:20260205T180000
DTEND;TZID=Europe/Stockholm:20260205T190000
DTSTAMP:20260424T101240
DESCRIPTION:
SEQUENCE:0
SUMMARY:Scout.
UID:4643@lawebb.se
END:VEVENT
END:VCALENDAR