BEGIN:VCALENDAR
VERSION:2.0
BEGIN:VEVENT
DTSTART;TZID=Europe/Stockholm:20260203T143000
DTEND;TZID=Europe/Stockholm:20260203T153000
DTSTAMP:20260424T101502
DESCRIPTION:&#34;Existentiell hälsa med Diakonin i Gislaved&#34;. Maria Richardsson & Maria Wiss berättar om arbetet i Gislaved. Servering.
SEQUENCE:0
SUMMARY:Dagledigträff i församlingshemmet.
UID:6783@lawebb.se
END:VEVENT
END:VCALENDAR