BEGIN:VCALENDAR
VERSION:2.0
BEGIN:VEVENT
DTSTART;TZID=Europe/Stockholm:20260125T100000
DTEND;TZID=Europe/Stockholm:20260125T110000
DTSTAMP:20260424T104137
DESCRIPTION:Kjell Larsson, Emmy Hellström, Ulrika Axelsson och ungdomar. Information av Open Doors om förföljelsen av kristna i världen. Bibelns dag. Söndagskul.  Servering.
SEQUENCE:0
SUMMARY:Missionsgudstjänst.
UID:5368@lawebb.se
END:VEVENT
END:VCALENDAR